BEGIN:VCALENDAR
VERSION:2.0
PRODID:-//ChamberMaster//Event Calendar 2.0//EN
METHOD:PUBLISH
X-PUBLISHED-TTL:P3D
REFRESH-INTERVAL:P3D
CALSCALE:GREGORIAN
BEGIN:VEVENT
DTSTART:20171013T133000Z
DTEND:20171013T153000Z
X-MICROSOFT-CDO-ALLDAYEVENT:FALSE
SUMMARY:THOUGHT LEADERSHIP ideas\, motivation\, inspiration
DESCRIPTION:The Thought Leadership Series is an inspiring program of events that will feature a high-profile and influential thought leader\, business icon or successful entrepreneur at each event. Members and guests have the opportunity to benefit from key insights provided by thought leaders from across Canada\, while sharing their own success stories. Each event will feature a well-known or knowledgeable thought leader\, and the carefully chosen topical themes will attract business leaders from across Saskatchewan.\n\n\n\nOctober 13th Breakfast will feature Jason Langrish\, Executive Director for the Canada-Europe Roundtable for Business.\n\n\n\nJoin us for this high-impact\, thought-provoking discussion\, which is bringing together Saskatchewan business leaders and entrepreneurs who are\, or plan to be\, trading with Europe. This breakfast will also provide a unique networking opportunity to meet and interact with business leaders\, share insights and discuss opportunities in Saskatchewan.
X-ALT-DESC;FMTTYPE=text/html:<span style="font-size:14px\;"><span style="font-family:verdana\;">The Thought Leadership Series is an inspiring program of events that will feature a high-profile and influential thought leader\, business icon or successful entrepreneur at each event. Members and guests have the opportunity to benefit from key insights provided by thought leaders from across Canada\, while sharing their own success stories. Each event will feature a well-known or knowledgeable thought leader\, and the carefully chosen topical themes will attract business leaders from across Saskatchewan.</span></span><br />\n<br />\n<strong><span style="font-size:14px\;"><span style="font-family:verdana\;">October 13th&nbsp\;Breakfast will feature Jason Langrish\,&nbsp\;Executive Director for the Canada-Europe Roundtable for Business.</span></span></strong><br />\n<br />\n<span style="font-size:14px\;"><span style="font-family:verdana\;">Join us for this high-impact\, thought-provoking discussion\, which is bringing together Saskatchewan business leaders and entrepreneurs who are\, or plan to be\, trading with Europe. This breakfast will also provide a unique networking opportunity to meet and interact with business leaders\, share insights and discuss opportunities in Saskatchewan.</span></span>
LOCATION:Hotel Saskatchewan Regina\, SK
UID:e.779.316
SEQUENCE:3
DTSTAMP:20260419T225029Z
URL:http://business.saskchamber.com/events/details/thought-leadership-ideas-motivation-inspiration-316
END:VEVENT

END:VCALENDAR
