BEGIN:VCALENDAR
VERSION:2.0
PRODID:-//ChamberMaster//Event Calendar 2.0//EN
METHOD:PUBLISH
X-PUBLISHED-TTL:P3D
REFRESH-INTERVAL:P3D
CALSCALE:GREGORIAN
BEGIN:VEVENT
DTSTART:20191002T233000Z
DTEND:20191003T030000Z
X-MICROSOFT-CDO-ALLDAYEVENT:FALSE
SUMMARY:The Chair's Invitational Dinner 2019
DESCRIPTION:The Chair's Invitational Dinner is now in its fifth year\, the previous dinners sold out quickly and 100% of attendees surveyed indicated that they would attend again. This unique event serves as a connector between Deputy Ministers\, Crown Presidents and the Saskatchewan Chamber of Commerce Board and members.\n\n\n\nThe Chair's Invitational Dinner will feature an incredible menu of Saskatchewan foods as well as a premium selection of wines and spirits. The conversations will be energetic and informed\, with a Deputy Minister or Crown President as a guest at each table.  The Chair's Invitational Dinner is an event not to be missed for business leaders interested in the future growth of this province.\n\n\n\n** Only 2 attendees per member organization\, space is limited **\n\n* Physical tickets will not be printed *
X-ALT-DESC;FMTTYPE=text/html:<span style="font-size:14px\;"><span style="font-family:verdana\;">The Chair&#39\;s Invitational Dinner is now in its fifth year\, the previous dinners sold out quickly and 100% of attendees surveyed indicated that they would attend again. This unique event serves as a connector between Deputy Ministers\, Crown Presidents and the Saskatchewan Chamber of Commerce Board and members.<br />\n<br />\n<em>The Chair&#39\;s Invitational Dinner</em> will feature an incredible menu of Saskatchewan foods as well as a premium selection of wines and spirits.&nbsp\;The conversations will be energetic and informed\, with a Deputy Minister or Crown President as a guest at each table. &nbsp\;<em>The Chair&#39\;s Invitational Dinner</em> is an event not to be missed for business leaders interested in the future growth of this province.<br />\n<br />\n<span style="line-height: 20.8px\;"><strong>** Only 2 attendees per member organization\, space is limited **<br />\n* Physical tickets will not be printed *</strong></span></span></span>
LOCATION:International Trade Center - Evraz Place Front Foyer 1700 Elphinstone Street Regina\, Saskatchewan S4P 2Z6
UID:e.779.356
SEQUENCE:3
DTSTAMP:20260419T143814Z
URL:http://business.saskchamber.com/events/details/the-chair-s-invitational-dinner-2019-356
END:VEVENT

END:VCALENDAR
