BEGIN:VCALENDAR
VERSION:2.0
PRODID:-//ChamberMaster//Event Calendar 2.0//EN
METHOD:PUBLISH
X-PUBLISHED-TTL:P3D
REFRESH-INTERVAL:P3D
CALSCALE:GREGORIAN
BEGIN:VEVENT
DTSTART:20211007T163000Z
DTEND:20211007T180000Z
X-MICROSOFT-CDO-ALLDAYEVENT:FALSE
SUMMARY:CCES Speaker Series feat. Jolene Watson with Clarity Coaching
DESCRIPTION:CCES Speaker Series September 2021 featuring:\n\nJolene Watson with Clarity Coaching\n\n\nWe invite you to join the Chamber of Commerce Executives of Saskatchewan (CCES) Speaker Series featuring this month's speaker - Jolene Watson with Clarity Coaching.\n\n\n\nJolene will present on Winning Influence and Customer Service. With a deep knowledge of communication styles\, Jolene inspires and engages her audience\, shining a spotlight on how as a society\, we are all individuals\, and understanding that individuality is the secret to success in love\, friendship\, and in business. Her message is that understanding different personality traits and communication styles are the key to creating lasting and powerful human connections.\n\n\n\nAs Canada's number one networking expert\, Jolene focuses on Collaboration and Growth: Keynotes / breakout sessions focusing on 'Creating Connections'. Whether you work with co-workers\, in customer service\, meet clients\, are building a team\, or growing a business\, Jolene's Keynote talk breaks the barriers that hold us back from connecting with others. Take notes in leadership skills and glean insight into dealing with varied personalities. In addition\, Jolene tailors her talks for your specific needs regarding communication styles\, personality types\, and stress/change management.\n\n\n\nJolene was born and raised on a grain and cattle farm in Saskatchewan. Her love of speaking was sparked in 2001\; her true extroverted nature led her to join Toastmasters International and she later went on to graduate from all four Dale Carnegie courses. She has had over 18 years of experience in office management over the years in various industries including natural resources and healthcare. Her passion for Jungian psychology let her to become certified as a Myers-Briggs  Practitioner through Psychometrics Canada Ltd. where she graduated with a 99% average (she is obviously passionate about psychology). She speaks on a variety of topics and has notable expertise in the areas of networking etiquette\, customer service\, presentation skills and stress management.
X-ALT-DESC;FMTTYPE=text/html:<div style="text-align: center\;"><u><strong>CCES Speaker Series September 2021 featuring:<br />\nJolene Watson&nbsp\;with Clarity&nbsp\;Coaching</strong></u></div>\n<br />\nWe invite you to join the Chamber of Commerce Executives of Saskatchewan (CCES) Speaker Series featuring this month&#39\;s speaker - Jolene Watson with Clarity Coaching.<br />\n<br />\nJolene will present on Winning Influence and Customer Service.&nbsp\;With a deep knowledge of communication styles\, Jolene inspires and engages&nbsp\;her audience\, shining a spotlight on how as a society\, we are all individuals\, and understanding that individuality is the secret to success in love\, friendship\, and in business. Her message is that understanding different personality traits and communication styles are&nbsp\;the key to creating lasting and powerful human connections.<br />\n<br />\nAs Canada&#39\;s number one networking expert\, Jolene focuses on Collaboration and Growth: Keynotes / breakout sessions focusing on &#39\;Creating Connections&#39\;. Whether you work with co-workers\, in customer service\, meet clients\, are building a team\, or growing a business\, Jolene&#39\;s Keynote talk breaks the barriers that hold us back from connecting with others. Take notes in leadership skills and glean insight into dealing with varied personalities. In addition\, Jolene tailors her talks for your specific needs regarding communication styles\, personality types\, and stress/change management.<br />\n<br />\nJolene was born and raised on a grain and cattle farm in Saskatchewan. Her love of speaking was sparked in 2001\; her true extroverted nature led her to join Toastmasters International and she later went on to graduate from all four Dale Carnegie courses. She has had over 18 years of experience in office management over the years in various industries including natural resources and healthcare. Her passion for Jungian psychology let her to become certified as a Myers-Briggs&reg\; Practitioner through Psychometrics Canada Ltd. where she graduated with a 99% average (she is obviously passionate about psychology). She speaks on a variety of topics and has notable expertise in the areas of networking etiquette\, customer service\, presentation skills and stress management.
LOCATION:Zoom details provided with confirmation.
UID:e.779.732
SEQUENCE:3
DTSTAMP:20260420T071303Z
URL:http://business.saskchamber.com/events/details/cces-speaker-series-feat-jolene-watson-with-clarity-coaching-732
END:VEVENT

END:VCALENDAR
