BEGIN:VCALENDAR
VERSION:2.0
PRODID:-//ChamberMaster//Event Calendar 2.0//EN
METHOD:PUBLISH
X-PUBLISHED-TTL:P3D
REFRESH-INTERVAL:P3D
CALSCALE:GREGORIAN
BEGIN:VEVENT
DTSTART:20210902T163000Z
DTEND:20210902T180000Z
X-MICROSOFT-CDO-ALLDAYEVENT:FALSE
SUMMARY:CCES Speaker Series feat. Daria Malin with Boost Strategic Coaching
DESCRIPTION:CCES Speaker Series September 2021 featuring:\n\nDaria Malin with Boost Strategic Coaching\n\n\nWe invite you to join the Chamber of Commerce Executives of Saskatchewan (CCES) Speaker Series featuring this month's speaker - Daria Malin with Boost Strategic Coaching.\n\n\n\nDaria will present on Clarity in Marketing and Establishing Niche Markets. Clarity is the foundation of a successful business development and marketing strategy. To save you time and money on misdirected efforts\, it is important to put in the work up front to make sure you're clear on what you are offering. Otherwise\, you present a muddled message and it will be lost on those who should be buying it from you. In this session we will focus on: identifying your most profitable markets\, creating messaging that will compel them\, understanding how to effectively engage with them. If your efforts are not bringing you the results you are expecting\, this session is one you won't want to miss.\n\n\n\nDaria Malin is a Marketing Strategist\, Coach\, Author of "Hands On Marketing: The Small Business Owners Guide to Marketing & Branding"\, and Educator working with clients all over the world to help them achieve their big goals. She helps professionals find clarity when it comes to their sales and marketing efforts. She is the voice of possibility for your business\, reminding you that you really can do this.
X-ALT-DESC;FMTTYPE=text/html:<div style="text-align: center\;"><u><strong>CCES Speaker Series September 2021 featuring:<br />\nDaria Malin with Boost Strategic Coaching</strong></u></div>\n<br />\nWe invite you to join the Chamber of Commerce Executives of Saskatchewan (CCES) Speaker Series featuring this month&#39\;s speaker - Daria Malin with Boost Strategic Coaching.<br />\n<br />\nDaria will present on Clarity in Marketing and Establishing Niche Markets. Clarity is the foundation of a successful business development and marketing strategy. To save you time and money on misdirected efforts\, it is important to put in the work up front to make sure you&#39\;re clear on what you are offering. Otherwise\, you present a muddled message and it will be lost on those who should be buying it from you. In this session we will focus on: identifying your most profitable markets\, creating messaging that will compel them\, understanding how to effectively engage with them. If your efforts are not bringing you the results you are expecting\, this session is one you won&#39\;t want to miss.<br />\n<br />\nDaria Malin is a Marketing Strategist\, Coach\, Author of &quot\;Hands On Marketing: The Small Business Owners Guide to Marketing &amp\; Branding&quot\;\, and Educator working with clients all over the world to help them achieve their big goals. She helps professionals find clarity when it comes to their sales and marketing efforts. She is the voice of possibility for your business\, reminding you that you really can do this.
LOCATION:Zoom details provided with confirmation.
UID:e.779.731
SEQUENCE:3
DTSTAMP:20260420T083622Z
URL:http://business.saskchamber.com/events/details/cces-speaker-series-feat-daria-malin-with-boost-strategic-coaching-731
END:VEVENT

END:VCALENDAR
