BEGIN:VCALENDAR
VERSION:2.0
PRODID:-//ChamberMaster//Event Calendar 2.0//EN
METHOD:PUBLISH
X-PUBLISHED-TTL:P3D
REFRESH-INTERVAL:P3D
CALSCALE:GREGORIAN
BEGIN:VEVENT
DTSTART:20211104T163000Z
DTEND:20211104T180000Z
X-MICROSOFT-CDO-ALLDAYEVENT:FALSE
SUMMARY:CCES Speaker Series feat. Blue Moose Media on Digital Marketing Strategy
DESCRIPTION:CCES Speaker Series September 2021 featuring:\n\nBlue Moose Media on Digital Marketing Strategy\n\n\nWe invite you to join the Chamber of Commerce Executives of Saskatchewan (CCES) Speaker Series featuring this month's speaker - Blue Moose Media on Digital Marketing Strategy.\n\n\n\nBlue Moose Media is Saskatchewan's award-winning leader in social media and digital marketing training. Their highly regarded and engaging speakers offer social media and digital marketing presentations loaded with valuable content\, relevant examples and actionable advice.\n\n\n\nTheir training is the only education like it in Saskatchewan. Built with SK businesses in mind\, their courses ensure students learn the material by doing the work in class. Also...it's been said that their crew has a way of making the entire experience fun.
X-ALT-DESC;FMTTYPE=text/html:<div style="text-align: center\;"><u><strong>CCES Speaker Series September 2021 featuring:<br />\nBlue Moose Media on Digital Marketing Strategy</strong></u></div>\n<br />\nWe invite you to join the Chamber of Commerce Executives of Saskatchewan (CCES) Speaker Series featuring this month&#39\;s speaker - Blue Moose Media on Digital Marketing Strategy.<br />\n<br />\nBlue Moose Media is Saskatchewan&#39\;s award-winning leader in social media and digital marketing training. Their highly regarded and engaging speakers offer social media and digital marketing presentations loaded with valuable content\, relevant examples and actionable advice.<br />\n<br />\nTheir training is the only education like it in Saskatchewan. Built with SK businesses in mind\, their courses ensure students learn the material by doing the work in class. Also...it&#39\;s been said that their crew has a way of making the entire experience fun.<br />\n&nbsp\;
LOCATION:Zoom details provided with confirmation.
UID:e.779.733
SEQUENCE:3
DTSTAMP:20260420T054102Z
URL:http://business.saskchamber.com/events/details/cces-speaker-series-feat-blue-moose-media-on-digital-marketing-strategy-733
END:VEVENT

END:VCALENDAR
