BEGIN:VCALENDAR
VERSION:2.0
PRODID:-//ChamberMaster//Event Calendar 2.0//EN
METHOD:PUBLISH
X-PUBLISHED-TTL:P3D
REFRESH-INTERVAL:P3D
CALSCALE:GREGORIAN
BEGIN:VEVENT
DTSTART:20240606T133000Z
DTEND:20240606T153000Z
X-MICROSOFT-CDO-ALLDAYEVENT:FALSE
SUMMARY:2024 Deputy Minister Breakfast
DESCRIPTION:Discover the power of connections at the Deputy Minister's Breakfast. This premier networking event serves as the ultimate connector\, fostering invaluable relationships between the Chamber membership\, deputy ministers\, and CEOs of Crown corporations.\n\n\n\nThis exclusive\, members-only event provides a unique opportunity to establish and reaffirm strong working relationships in a comfortable and relaxed environment. Don't miss this opportunity for professional growth. Secure your tickets now and unlock the pathway to collaboration\, innovation\, and success.\n*Please note: Only 2 representatives per member organization permitted.\n\n\n\nEvent Cancellations will be processed as follows: full refund for cancellations made 14 days prior\, 50% refund for cancellations between 7 and 14 days prior\, and no refund for cancellations less than 7 days prior to the event. Tickets are transferrable to another individual within the same organization up until the start of the event. Refunds will be issued within 30 days of the cancellation request. The Chamber shall not be liable for any incurred costs.
X-ALT-DESC;FMTTYPE=text/html:Discover the power of connections at the Deputy Minister&#39\;s Breakfast. This premier networking event serves as the ultimate connector\, fostering invaluable relationships between the Chamber membership\, deputy ministers\, and CEOs of Crown corporations.<br />\n<br />\nThis exclusive\, members-only event provides a unique opportunity to establish and reaffirm strong working relationships in a comfortable and relaxed environment. Don&#39\;t miss this opportunity for professional growth. Secure your tickets now and unlock the pathway to collaboration\, innovation\, and success.\n<p><em><strong>*Please note: Only 2 representatives per member organization permitted.</strong></em><br />\n<br />\n<span style="font-size: 10px\;">Event Cancellations will be processed as follows: full refund for cancellations made 14 days prior\, 50% refund for cancellations between 7 and 14 days prior\, and no refund for cancellations less than 7 days prior to the event. Tickets are transferrable to another individual within the same organization up until the start of the event. Refunds will be issued within 30 days of the cancellation request. The Chamber shall not be liable for any incurred costs.</span></p>\n
LOCATION:DoubleTree by Hilton - Capital Ballroom (main floor) 1975 Broad Street\, Regina\, SK
UID:e.779.884
SEQUENCE:3
DTSTAMP:20260422T062344Z
URL:http://business.saskchamber.com/events/details/2024-deputy-minister-breakfast-884
END:VEVENT

END:VCALENDAR
