BEGIN:VCALENDAR
VERSION:2.0
PRODID:-//ChamberMaster//Event Calendar 2.0//EN
METHOD:PUBLISH
X-PUBLISHED-TTL:P3D
REFRESH-INTERVAL:P3D
CALSCALE:GREGORIAN
BEGIN:VEVENT
DTSTART:20240507T183000Z
DTEND:20240507T203000Z
X-MICROSOFT-CDO-ALLDAYEVENT:FALSE
SUMMARY:2024 Annual General Meeting
DESCRIPTION:The Saskatchewan Chamber of Commerce is pleased to announce it's 2024 Annual General Meeting\, presented by Chambers Plan Group Insurance. \n\n\n\nJoin us for the induction of our new board chair\, Mr. Greg McIntyre\, and learn more about the Chamber's upcoming priorities for 2024 and beyond.\n\n\n\nMembers are welcome to join us at 12:45pm for a buffet lunch and networking\, prior to the start of the AGM.
X-ALT-DESC;FMTTYPE=text/html:The Saskatchewan Chamber of Commerce is pleased to announce it&#39\;s 2024 Annual General Meeting\, presented by Chambers Plan Group Insurance.&nbsp\;<br />\n<br />\nJoin us for the induction of our new board chair\, Mr. Greg McIntyre\, and learn more about the Chamber&rsquo\;s upcoming priorities for 2024 and beyond.<br />\n<br />\n<strong>Members are welcome to join us at 12:45pm for a buffet lunch and networking\, prior to the start of the AGM.</strong>
LOCATION:Delta Hotels by Marriott Regina 1919 Saskatchewan Drive\, Regina\, SK S4P 4H2 *Travelling from out of town? Contact us to learn how to book a room at our preferred rate.
UID:e.779.895
SEQUENCE:3
DTSTAMP:20260425T113859Z
URL:http://business.saskchamber.com/events/details/2024-annual-general-meeting-895
END:VEVENT

END:VCALENDAR
